BEGIN:VCALENDAR
VERSION:2.0
PRODID:-//eventon.com NONSGML v1.0//EN
CALSCALE:GREGORIAN
METHOD:PUBLISH
BEGIN:VEVENT
UID:69e9da90c3656
DTSTAMP:20260423T083840Z
DTSTART:20241227T120000Z
DTEND:20241227T140000Z
LOCATION:Cavallunapark Mücnehn
SUMMARY:CAVALLUNA Kids – EINE REISE INS WINTERWÜNSCHELAND im SHOWPALAST MÜNCHEN
DESCRIPTION:CAVALLUNA Kids – EINE REISE INS WINTERWÜNSCHELAND im SHOWPAL
 AST MÜNCHEN Für die ganze Familie Die verwunschene Show &#8222;CAVALLUNA 
 Kids – WinterWünscheLand&#8220; ist nun fast schon eine Weihnachtstradit
 ion in München geworden und auch diesen Winter kehrt sie wieder zurück! D
 er beeindruckende SHOWPALAST verwandelt sich in ein winterliches Wunderland
 \,  in dem Groß[..]\nhttps://kitz-magazin.de/Veranstaltungen/cavalluna-kid
 s-eine-reise-ins-winterwuenscheland-im-showpalast-muenchen-8/var/ri-1.l-L1
URL:https://kitz-magazin.de/Veranstaltungen/cavalluna-kids-eine-reise-ins-winterwuenscheland-im-showpalast-muenchen-8/var/ri-1.l-L1
END:VEVENT
END:VCALENDAR