BEGIN:VCALENDAR
VERSION:2.0
PRODID:-//eventon.com NONSGML v1.0//EN
CALSCALE:GREGORIAN
METHOD:PUBLISH
BEGIN:VEVENT
UID:69e8ff3e0babd
DTSTAMP:20260422T170254Z
DTSTART:20241128T150000Z
DTEND:20241128T210000Z
LOCATION:Berg am Laim Str. 103
SUMMARY:Urbaner Weihnachtszauber: Die Weihnachtsmacherei in Berg am Laim
DESCRIPTION:23. November bis 22. Dezember 2024 Urbaner Weihnachtszauber: Di
 e Weihnachtsmacherei in Berg am Laim Für die ganze Familie Die Weihnachtsm
 acherei bietet in Berg am Laim vom 23.11. bis 22.12.2024 eine vielseitige M
 ischung aus Musik\,  Gastronomie und winterlichen Aktivitäten auf der Eiss
 tockbahn in einem modernen urbanen Umfeld. Das vierwöchige Programm starte
 t[..]\nhttps://kitz-magazin.de/Veranstaltungen/urbaner-weihnachtszauber-die
 -weihnachtsmacherei-in-berg-am-laim/var/ri-1.l-L1
URL:https://kitz-magazin.de/Veranstaltungen/urbaner-weihnachtszauber-die-weihnachtsmacherei-in-berg-am-laim/var/ri-1.l-L1
END:VEVENT
END:VCALENDAR