BEGIN:VCALENDAR
VERSION:2.0
PRODID:-//eventon.com NONSGML v1.0//EN
CALSCALE:GREGORIAN
METHOD:PUBLISH
BEGIN:VEVENT
UID:69e716ef986c0
DTSTAMP:20260421T061927Z
DTSTART:20250209T100000Z
DTEND:20250209T130000Z
LOCATION:Seidlvilla Nikolaiplatz 1b
SUMMARY:Familienmatinee in der Seidlvilla:  Frühstücken\,  hören\,  sehen und selber machen
DESCRIPTION:Sonntag\,  09.02. und 09.03.\,  jeweils um 10.00 Uhr Familienma
 tinee in der Seidlvilla: Frühstücken\,  hören\,  sehen und selber machen
  Für Eltern mit Kinder ab 3-4 Jahren Einmal im Monat ist ab 10.00 Uhr in d
 er Cafeteria Zeit zum Frühstücken. Jeweils um 11.00 Uhr startet das Progr
 amm mit einer Figurentheater- oder Musikaufführung.[..]\nhttps://kitz-maga
 zin.de/Veranstaltungen/familienmatinee-in-der-seidlvilla-fruehstuecken-hoer
 en-sehen-und-selber-machen/
URL:https://kitz-magazin.de/Veranstaltungen/familienmatinee-in-der-seidlvilla-fruehstuecken-hoeren-sehen-und-selber-machen/
END:VEVENT
END:VCALENDAR