BEGIN:VCALENDAR
VERSION:2.0
PRODID:-//eventon.com NONSGML v1.0//EN
CALSCALE:GREGORIAN
METHOD:PUBLISH
BEGIN:VEVENT
UID:69e8f8259d1f7
DTSTAMP:20260422T163237Z
DTSTART:20251107
DTEND:20251108
LOCATION:Motorworld MÃ¼nchen
SUMMARY:WINTERWORLD in der MOTORWORLD MÃ¼nchen-Freimann
DESCRIPTION:Noch bis 28.12.2025 Winterworld in der Motorworld MÃ¼nchen-Frei
 mann FÃ¼r die ganze Familie Unter dem Motto â€žDriving Home for Christmasâ€
 œ Ã¶ffnet die Winterworld in diesem Jahr zum dritten Mal ihre Pforten an de
 r Motorworld in MÃ¼nchen. Nach den groÃŸartigen Erfolgen der letzten Jahre 
 erwartet Sie dieses Mal eine noch beeindruckendere und[..]\nhttps://kitz-ma
 gazin.de/Veranstaltungen/winterworld-in-der-motorworld-muenchen-freimann-2/
URL:https://kitz-magazin.de/Veranstaltungen/winterworld-in-der-motorworld-muenchen-freimann-2/
END:VEVENT
END:VCALENDAR