BEGIN:VCALENDAR
VERSION:2.0
PRODID:-//eventon.com NONSGML v1.0//EN
CALSCALE:GREGORIAN
METHOD:PUBLISH
BEGIN:VEVENT
UID:69e73da2abcc7
DTSTAMP:20260421T090434Z
DTSTART:20241207T140000Z
DTEND:20241207T180000Z
LOCATION:Feierwerk Trafixx Baierbrunner Str. 57
SUMMARY:Mädchentreff - Girls Only im Feierwerk Trafixx
DESCRIPTION:Samstag\,  07.12.2024 von 14:00 &#8211; 18:00 Uhr Mädchentreff
  &#8211; Girls Only im Feierwerk Trafixx Für Mädchen von 12-18 Jahren Ein
 en Ort\,  an dem sich Mädchen wohlfühlen\,  sein können\,  wie sie wolle
 n\,  sich ungezwungen treffen\,  kreativ werden\,  austauschen oder einfach
  mal abschalten können. Das bietet der regelmäßige Mädchentreff im Feie
 rwerk Trafixx[..]\nhttps://kitz-magazin.de/Veranstaltungen/maedchentreff-gi
 rls-only-im-feierwerk-trafixx/
URL:https://kitz-magazin.de/Veranstaltungen/maedchentreff-girls-only-im-feierwerk-trafixx/
END:VEVENT
END:VCALENDAR