BEGIN:VCALENDAR
VERSION:2.0
PRODID:-//eventon.com NONSGML v1.0//EN
CALSCALE:GREGORIAN
METHOD:PUBLISH
BEGIN:VEVENT
UID:69e7aa2539732
DTSTAMP:20260421T164733Z
DTSTART:20250207T150000Z
DTEND:20250207T163000Z
LOCATION:Pasinger Fabrik August-Exter-Str. 1
SUMMARY:Kinderkino â€“ "GespensterjÃ¤ger" in der Kinder- und Jugendkulturwerkstatt Pasinger Fabrik
DESCRIPTION:Fr\,  07.02.\,  15.00 bis 16.30 Uhr Kinderkino â€“ &#8222;Gespe
 nsterjÃ¤ger&#8220; in der Kinder- und Jugendkulturwerkstatt Pasinger Fabrik
  FÃ¼r Kinder ab 6 Jahren Wie gruselig! Tom hat im Keller einen Schleim gesp
 endet! Zum GlÃ¼ck ist der grÃ¼ne Hugo nur ein MUG\,  also ein â€žMittelmÃ¤Ã
 Ÿig Unheimliches Gespenstâ€œ und dazu auch noch ziemlich lustig.[..]\nhttps
 ://kitz-magazin.de/Veranstaltungen/kinderkino-gespensterjaeger-in-der-kinde
 r-und-jugendkulturwerkstatt-pasinger-fabrik/
URL:https://kitz-magazin.de/Veranstaltungen/kinderkino-gespensterjaeger-in-der-kinder-und-jugendkulturwerkstatt-pasinger-fabrik/
END:VEVENT
END:VCALENDAR