BEGIN:VCALENDAR
VERSION:2.0
PRODID:-//eventon.com NONSGML v1.0//EN
CALSCALE:GREGORIAN
METHOD:PUBLISH
BEGIN:VEVENT
UID:69eb47907ec40
DTSTAMP:20260424T103600Z
DTSTART:20250108T100000Z
DTEND:20250108T113000Z
LOCATION:Beratungsstelle für natürliche Geburt
SUMMARY:Veranstaltungen und offene Treffs für werdende Eltern der Beratungsstelle für Natürliche Geburt und Eltern-Sein e.V.
DESCRIPTION:Veranstaltungen und offene Treffs für werdende Eltern der Bera
 tungsstelle für Natürliche Geburt und Eltern-Sein e.V. Für Eltern Mittwo
 ch\,  08.01.2025\,  von 10:00 &#8211; 11:30 Uhr Zwillings-Eltern Treff\,  o
 ffener Treff auf deutsch. 3 € Montag\,  13.01.2025\,  von 18:00 &#8211; 1
 9:45 Uhr \,  Das Wochenbett realistisch gestalten\,  Online-Vortrag deutsch
 \,  15\, 00 € Dienstag\,  14.01.2025\, [..]\nhttps://kitz-magazin.de/Vera
 nstaltungen/veranstaltungen-und-offene-treffs-fuer-werdende-eltern-der-bera
 tungsstelle-fuer-natuerliche-geburt-und-eltern-sein-e-v-4/
URL:https://kitz-magazin.de/Veranstaltungen/veranstaltungen-und-offene-treffs-fuer-werdende-eltern-der-beratungsstelle-fuer-natuerliche-geburt-und-eltern-sein-e-v-4/
END:VEVENT
END:VCALENDAR