BEGIN:VCALENDAR
VERSION:2.0
PRODID:-//eventon.com NONSGML v1.0//EN
CALSCALE:GREGORIAN
METHOD:PUBLISH
BEGIN:VEVENT
UID:69e5c810f2e64
DTSTAMP:20260420T063040Z
DTSTART:20250303T100000Z
DTEND:20250303T123000Z
LOCATION:Mamas Kindercafé
SUMMARY:Mama´s Kindercafé - Familiencafé in München Solln
DESCRIPTION:Wöchentlich von Dienstag bis Sonntag Mama´s Kindercafé &#821
 1; Familiencafé in München Solln Für die ganze Familie Bei uns können K
 inder nach Herzenslust spielen und entdecken. Ein Familiencafe für Eltern 
 und Kinder: kinderfreundlich\,  Kinderturnen\,  Kindertanzen\,  Experimente
  und Kinderbasteln. Miete unsere gesamte location –exklusiv – nur für 
 Deinen Kindergeburtstag Öffnungszeiten: Montag &#8211;[..]\nhttps://kitz-m
 agazin.de/Veranstaltungen/mamas-kindercafe-familiencafe-in-muenchen-solln/
URL:https://kitz-magazin.de/Veranstaltungen/mamas-kindercafe-familiencafe-in-muenchen-solln/
END:VEVENT
END:VCALENDAR