BEGIN:VCALENDAR
VERSION:2.0
PRODID:-//eventon.com NONSGML v1.0//EN
CALSCALE:GREGORIAN
METHOD:PUBLISH
BEGIN:VEVENT
UID:69ed8fe18cab0
DTSTAMP:20260426T040905Z
DTSTART:20250316T100000Z
DTEND:20250316T130000Z
LOCATION:Haus Dorothee St.-Michael-Str. 88
SUMMARY:Sonntagsbrunch für Alleinerziehende im Haus Dorothee
DESCRIPTION:Sonntags\,  jeweils von 11:00 – 14:00 Uhr Sonntagsbrunch für
  Alleinerziehende im Haus Dorothee Wir treffen uns um Bekannte wieder zu se
 hen\,  neue kennenzulernen und natürlich zum Schlemmen\,  Ratschen\,  Lach
 en. Es gibt Brezen mit Butter sowie Kaffee und Tee. Für ein buntes Buffet 
 bitte ich Sie um einen leckeren Beitrag. Termine:[..]\nhttps://kitz-magazin
 .de/Veranstaltungen/sonntagsbrunch-fuer-alleinerziehende-im-haus-dorothee-6
 /
URL:https://kitz-magazin.de/Veranstaltungen/sonntagsbrunch-fuer-alleinerziehende-im-haus-dorothee-6/
END:VEVENT
END:VCALENDAR