BEGIN:VCALENDAR
VERSION:2.0
PRODID:-//eventon.com NONSGML v1.0//EN
CALSCALE:GREGORIAN
METHOD:PUBLISH
BEGIN:VEVENT
UID:69e72f42be91f
DTSTAMP:20260421T080314Z
DTSTART:20250328T153000Z
DTEND:20250328T173000Z
LOCATION:ebz - Evangelisches Beratungszentrum München Landwehrstraße 15 Rgb.
SUMMARY:Freitagscafé im ebz München
DESCRIPTION:Jeweils am Fr.\,  15:30 &#8211; 17:30 Uhr (außer in den Ferien
 \,  an Feiertagen und Brückentagen) Freitagscafé im ebz München Für All
 einerziehende reden &#8211; zuhören &#8211; entspannen. Gleichgesinnte fin
 den\,  Erfahrungsaustausch. Einfach raus aus den vier Wänden. Fragen &#821
 1; Antworten Rund ums Kind. Schwanger &#8211; wie geht es weiter? Sie sind 
 mit[..]\nhttps://kitz-magazin.de/Veranstaltungen/freitagscafe-im-ebz-muench
 en/var/ri-2.l-L1
URL:https://kitz-magazin.de/Veranstaltungen/freitagscafe-im-ebz-muenchen/var/ri-2.l-L1
END:VEVENT
END:VCALENDAR