BEGIN:VCALENDAR
VERSION:2.0
PRODID:-//eventon.com NONSGML v1.0//EN
CALSCALE:GREGORIAN
METHOD:PUBLISH
BEGIN:VEVENT
UID:69e73cc029cef
DTSTAMP:20260421T090048Z
DTSTART:20250314T160000Z
DTEND:20250314T180000Z
LOCATION:Familienzentrum Parkstadt Schwabing Wilhelm-Wagenfeld-Str. 17
SUMMARY:iz art Kunstatelier in der Parkstadt Schwabing
DESCRIPTION:iz art Kunstatelier in der Parkstadt Schwabing Für Kinder und 
 Jugendliche von 4 bis 13 Jahren Malen\,  basteln und entdecken. Mit kunterb
 untem Bastelspaß starten wir gemeinsam ins Wochenende! Jeden Freitag zeige
 n wir Euch neue\,  kreative Ideen zum Mitmachen. Ihr habt Freude am Gestalt
 en und probiert gerne Neues aus? Dann seid[..]\nhttps://kitz-magazin.de/Ver
 anstaltungen/iz-art-kunstatelier-in-der-parkstadt-schwabing/
URL:https://kitz-magazin.de/Veranstaltungen/iz-art-kunstatelier-in-der-parkstadt-schwabing/
END:VEVENT
END:VCALENDAR