BEGIN:VCALENDAR
VERSION:2.0
PRODID:-//eventon.com NONSGML v1.0//EN
CALSCALE:GREGORIAN
METHOD:PUBLISH
BEGIN:VEVENT
UID:69eceb94cad57
DTSTAMP:20260425T162804Z
DTSTART:20250404T180000Z
DTEND:20250404T204500Z
LOCATION:Mallertshofer Kirche
SUMMARY:Naturführung für Familien mit dem Heidehaus in Fröttmaning: "Sind schon alle Vögel da?"
DESCRIPTION:Freitag\,  04.04.2025\,  18:00-20:45 Uhr Naturführung für Fam
 ilien mit dem Heidehaus in Fröttmaning: &#8222;Sind schon alle Vögel da?&
 #8220; Für Familien mit Kindern von 6 bis 13 Jahren und Erwachsene Amsel\,
   Drossel\,  Fink und Star und die ganze Vogelschar\,  heißt es im Kinderl
 ied. Wer von ihnen ist denn schon wieder aus dem[..]\nhttps://kitz-magazin.
 de/Veranstaltungen/naturfuehrung-fuer-familien-mit-dem-heidehaus-in-froettm
 aning-sind-schon-alle-voegel-da/
URL:https://kitz-magazin.de/Veranstaltungen/naturfuehrung-fuer-familien-mit-dem-heidehaus-in-froettmaning-sind-schon-alle-voegel-da/
END:VEVENT
END:VCALENDAR