BEGIN:VCALENDAR
VERSION:2.0
PRODID:-//eventon.com NONSGML v1.0//EN
CALSCALE:GREGORIAN
METHOD:PUBLISH
BEGIN:VEVENT
UID:69e815213235c
DTSTAMP:20260422T002401Z
DTSTART:20250417T143000Z
DTEND:20250417T180000Z
LOCATION:Feierwerk Südpolstation Gustav-Heinemann-Ring 19
SUMMARY:OSTERFERIENPROGRAMM in der Feierwerk Südpolstation: DJ-WORKSHOP
DESCRIPTION:Donnerstag\,  17.04.2025\,  14:30 bis 18:00 Uhr OSTERFERIENPROG
 RAMM in der Feierwerk Südpolstation: GRAFFITI-WORKSHOP Für Kinder von 8-
 12 Jahren Lust\,  selbst mal hinter den Turntables zu stehen? In diesem Wor
 kshop könnt ihr ausprobieren\,  wie Mixen\,  Scratchen und coole akustisch
 e Effekte funktionieren. Nachdem wir die Basics geklärt haben\,  geht’s 
 ran an die Decks –[..]\nhttps://kitz-magazin.de/Veranstaltungen/osterferi
 enprogramm-in-der-feierwerk-suedpolstation-dj-workshop/
URL:https://kitz-magazin.de/Veranstaltungen/osterferienprogramm-in-der-feierwerk-suedpolstation-dj-workshop/
END:VEVENT
END:VCALENDAR