BEGIN:VCALENDAR
VERSION:2.0
PRODID:-//eventon.com NONSGML v1.0//EN
CALSCALE:GREGORIAN
METHOD:PUBLISH
BEGIN:VEVENT
UID:69e945884afa4
DTSTAMP:20260422T220248Z
DTSTART:20250626T153000Z
DTEND:20250626T170000Z
LOCATION:
SUMMARY:MuseumsZeit! mit dem Museumspädagogischen Zentrum (MPZ)\,  München
DESCRIPTION:MuseumsZeit! mit dem Museumspädagogischen Zentrum (MPZ)\,  Mü
 nchen Für Familien Neu in München? Kommen Sie zur MuseumsZeit! Wir treffe
 n uns\,  um gemeinsam in einfachem Deutsch Kunst und Kultur zu begegnen\,  
 uns auszutauschen und Neues zu erfahren. Jeden zweiten Donnerstag findet da
 s kostenfreie Format MuseumsZeit im Museum Brandhorst\,  in der Pinakothek 
 der[..]\nhttps://kitz-magazin.de/Veranstaltungen/museumszeit-mit-dem-museum
 spaedagogischen-zentrum-mpz-muenchen-2/
URL:https://kitz-magazin.de/Veranstaltungen/museumszeit-mit-dem-museumspaedagogischen-zentrum-mpz-muenchen-2/
END:VEVENT
END:VCALENDAR