BEGIN:VCALENDAR
VERSION:2.0
PRODID:-//eventon.com NONSGML v1.0//EN
CALSCALE:GREGORIAN
METHOD:PUBLISH
BEGIN:VEVENT
UID:69eb6c7115bb6
DTSTAMP:20260424T131321Z
DTSTART:20250305
DTEND:20250306
LOCATION:
SUMMARY:Bild\,  Bild\,  Bilderbuch! Wir prÃ¤sentieren die schÃ¶nsten BilderbÃ¼cher in den MÃ¼nchner Stadtbibliotheken
DESCRIPTION:05.05.2025 â€“ 25.05.2025 Bild\,  Bild\,  Bilderbuch! Wir prÃ¤s
 entieren die schÃ¶nsten BilderbÃ¼cher in den MÃ¼nchner Stadtbibliotheken FÃ
 ¼r alle Interessierten In allen Standorten der MÃ¼nchner Stadtbibliothek fi
 nden Sie zwischen dem 5. und 25. Mai 2025 eine PrÃ¤sentation unserer Auswah
 l der schÃ¶nsten BilderbÃ¼cher der letzten Jahre. Zum Anschauen\,  BlÃ¤tter
 n\,  Vorlesen und natÃ¼rlich zum[..]\nhttps://kitz-magazin.de/Veranstaltung
 en/bild-bild-bilderbuch-wir-praesentieren-die-schoensten-bilderbuecher-in-d
 en-muenchner-stadtbibliotheken/
URL:https://kitz-magazin.de/Veranstaltungen/bild-bild-bilderbuch-wir-praesentieren-die-schoensten-bilderbuecher-in-den-muenchner-stadtbibliotheken/
END:VEVENT
END:VCALENDAR