BEGIN:VCALENDAR
VERSION:2.0
PRODID:-//eventon.com NONSGML v1.0//EN
CALSCALE:GREGORIAN
METHOD:PUBLISH
BEGIN:VEVENT
UID:69e73cae6d66d
DTSTAMP:20260421T090030Z
DTSTART:20250906T130000Z
DTEND:20250906T140000Z
LOCATION:Bille
SUMMARY:Marionettenspiel: "Hänsel und Gretel" im Marionettentheater Bille der Stadt Unterschleißheim
DESCRIPTION:Samstag\,  06.09. und Sonntag\,  07.09.\,  jeweils um 15:00 Uhr
  Marionettenspiel: &#8222;Hänsel und Gretel&#8220; im Marionettentheater B
 ille der Stadt Unterschleißheim Für Kinder ab 3 Jahren Märchen der Gebr.
  Grimm in 4 Akten. Infos und Karten gibt es hier Marionettentheater Bille d
 er Stadt Unterschleißheim Leitung Wlada &amp; Florian Bille Raiffeisenstra
 ße 25 85716[..]\nhttps://kitz-magazin.de/Veranstaltungen/marionettenspiel-
 haensel-und-gretel-im-marionettentheater-bille-der-stadt-unterschleissheim-
 5/
URL:https://kitz-magazin.de/Veranstaltungen/marionettenspiel-haensel-und-gretel-im-marionettentheater-bille-der-stadt-unterschleissheim-5/
END:VEVENT
END:VCALENDAR