BEGIN:VCALENDAR
VERSION:2.0
PRODID:-//eventon.com NONSGML v1.0//EN
CALSCALE:GREGORIAN
METHOD:PUBLISH
BEGIN:VEVENT
UID:69ed0b0b56024
DTSTAMP:20260425T184219Z
DTSTART:20260603T120000Z
DTEND:20260603T150000Z
LOCATION:Staatliche Antikensammlungen Königsplatz 1
SUMMARY:Pfingstferienkurs: Museum in der Schachtel in der Staatlichen Antikensammlungen München
DESCRIPTION:03. Juni um 14:00 – 17:00 Uhr Pfingstferienkurs: Museum in de
 r Schachtel in der Staatlichen Antikensammlungen München Für Kinder im Al
 ter von 8 bis 12 Jahren Wir entdecken ganz unterschiedliche Objekte aus der
  Antike: Trinkgefäße\,  Schminkkästchen\,  Waffen und kostbaren Schmuck.
  Nach dem Rundgang wirst du selbst zum/r Museumsdirektorin und gestaltest[.
 .]\nhttps://kitz-magazin.de/Veranstaltungen/pfingstferienkurs-museum-in-der
 -schachtel-in-der-staatlichen-antikensammlungen-muenchen/
URL:https://kitz-magazin.de/Veranstaltungen/pfingstferienkurs-museum-in-der-schachtel-in-der-staatlichen-antikensammlungen-muenchen/
END:VEVENT
END:VCALENDAR