BEGIN:VCALENDAR
VERSION:2.0
PRODID:-//eventon.com NONSGML v1.0//EN
CALSCALE:GREGORIAN
METHOD:PUBLISH
BEGIN:VEVENT
UID:69e88a6f230e4
DTSTAMP:20260422T084431Z
DTSTART:20260517T140000Z
DTEND:20260517T160000Z
LOCATION:Burg Grünwald
SUMMARY:Sonderausstellung auf der Burg Grünwald: Karl Valentin und die alten Rittersleut
DESCRIPTION:So\,  17.05.2026\,  14.00–16.00 Uhr Sonderausstellung auf der
  Burg Grünwald: Karl Valentin und die alten Rittersleut Familien mit Kinde
 rn von 6 bis 12 Jahren In der eigens für die Räume in der Burg Grünwald 
 erstellten Sonderausstellung bekommt man Einblick in die Hintergründe von 
 Valentins Liebe zu den Rittern und seinem Begriff[..]\nhttps://kitz-magazin
 .de/Veranstaltungen/burg-gruenwald-karl-valentin-und-die-alten-rittersleut/
URL:https://kitz-magazin.de/Veranstaltungen/burg-gruenwald-karl-valentin-und-die-alten-rittersleut/
END:VEVENT
END:VCALENDAR