BEGIN:VCALENDAR
VERSION:2.0
PRODID:-//eventon.com NONSGML v1.0//EN
CALSCALE:GREGORIAN
METHOD:PUBLISH
BEGIN:VEVENT
UID:69e4d4e76a971
DTSTAMP:20260419T131311Z
DTSTART:20260125T090000Z
DTEND:20260125T153000Z
LOCATION:Literaturhaus München
SUMMARY:Bildungstage München im Literaturhaus
DESCRIPTION:Sonntag\,  25. Januar 2026\,  10:00 – 16:30 Uhr Bildungstage 
 München im Literaturhaus Für alle Interessierten Die Bildungstage Münche
 n bieten eine einmalige Gelegenheit\,  sich unverbindlich mit Vertretern re
 nommierter Privatschulen und Internate und Summer Camps im direkten Gesprä
 ch zu pädagogischen Konzepten\,  Ausstattung und Zusatzangeboten auszutaus
 chen. Daneben erwarten Sie Fachvorträge zu topaktuellen Bildungsthemen.[..
 ]\nhttps://kitz-magazin.de/Veranstaltungen/bildungstage-muenchen-im-literat
 urhaus/
URL:https://kitz-magazin.de/Veranstaltungen/bildungstage-muenchen-im-literaturhaus/
END:VEVENT
END:VCALENDAR