BEGIN:VCALENDAR
VERSION:2.0
PRODID:-//eventon.com NONSGML v1.0//EN
CALSCALE:GREGORIAN
METHOD:PUBLISH
BEGIN:VEVENT
UID:69eb649c8e7e0
DTSTAMP:20260424T123956Z
DTSTART:20260131T170000Z
DTEND:20260131T180000Z
LOCATION:Münchner Stadtinformation im Neuen Rathaus Marienplatz 8
SUMMARY:Kinderführung: „Der Nachtwächter für Kinder“ mit SERVUS BAVARIA TOURS
DESCRIPTION:Jeden Freitag und Samstag um 18:00 Uhr. Kinderführung: „Der 
 Nachtwächter für Kinder“ mit SERVUS BAVARIA TOURS Für Kinder von 6-12 
 Jahren und ihre Familien Kinder\,  begleitet den Nachtwächter auf seinem a
 bendlichen Rundgang und erlebt\,  wie es in München im Mittelalter zuging!
  Seine Laterne leuchtet euch den Weg\,  und natürlich hat[..]\nhttps://kit
 z-magazin.de/Veranstaltungen/kinderfuehrung-der-nachtwaechter-fuer-kinder-m
 it-servus-bavaria-tours-4/var/ri-1.l-L1
URL:https://kitz-magazin.de/Veranstaltungen/kinderfuehrung-der-nachtwaechter-fuer-kinder-mit-servus-bavaria-tours-4/var/ri-1.l-L1
END:VEVENT
END:VCALENDAR