BEGIN:VCALENDAR
VERSION:2.0
PRODID:-//eventon.com NONSGML v1.0//EN
CALSCALE:GREGORIAN
METHOD:PUBLISH
BEGIN:VEVENT
UID:69e73d063750d
DTSTAMP:20260421T090158Z
DTSTART:20260306T150000Z
DTEND:20260306T170000Z
LOCATION:Quax Zentrum für Freizeit und kulturelle Bildung Helsinkistr. 100
SUMMARY:Kinder bewegen Kunst! Art Flow Pictures\,  die Medienwerkstatt im Quax
DESCRIPTION:Freitag\,  06.03.26\,  15.00-17.00 Uhr Kinder bewegen Kunst! Ar
 t Flow Pictures\,  die Medienwerkstatt im Quax Für Kinder ab 6 Jahren Das 
 Team vom Echo e.V. lädt wieder alle Kinder ab 6 Jahren ein zu „Art Flow 
 Pictures“. Denn kreativ sein kann man nicht nur mit Papier und Pinsel\,  
 sondern auch mit[..]\nhttps://kitz-magazin.de/Veranstaltungen/kinder-bewege
 n-kunst-art-flow-pictures-die-medienwerkstatt-im-quax/
URL:https://kitz-magazin.de/Veranstaltungen/kinder-bewegen-kunst-art-flow-pictures-die-medienwerkstatt-im-quax/
END:VEVENT
END:VCALENDAR