BEGIN:VCALENDAR
VERSION:2.0
PRODID:-//eventon.com NONSGML v1.0//EN
CALSCALE:GREGORIAN
METHOD:PUBLISH
BEGIN:VEVENT
UID:69eb803cea571
DTSTAMP:20260424T143748Z
DTSTART:20260504T163000Z
DTEND:20260504T235900Z
LOCATION:Stadtbibliothek Fürstenried
SUMMARY:Vorlesen mit Lesehund Ari in der Stadtbibliothek Fürstenried
DESCRIPTION:04.05.2026\,  16.30 Uhr Vorlesen mit Lesehund Ari in der Stadtb
 ibliothek Fürstenried Für Kinder ab 6 Jahren Einmal im Monat haben Kinder
  im Grundschulalter die Möglichkeit\,  Hund Ari ihre Lieblingsgeschichten 
 vorzulesen. Lesehunde können Kindern helfen\,  ihre Lesefähigkeiten zu ve
 rbessern und die Angst vor dem lauten Vorlesen zu verlieren. Anmeldung vor 
 Ort\, [..]\nhttps://kitz-magazin.de/Veranstaltungen/vorlesen-mit-lesehund-a
 ri-in-der-stadtbibliothek-fuerstenried-4/
URL:https://kitz-magazin.de/Veranstaltungen/vorlesen-mit-lesehund-ari-in-der-stadtbibliothek-fuerstenried-4/
END:VEVENT
END:VCALENDAR