BEGIN:VCALENDAR
VERSION:2.0
PRODID:-//eventon.com NONSGML v1.0//EN
CALSCALE:GREGORIAN
METHOD:PUBLISH
BEGIN:VEVENT
UID:69e8f825913f3
DTSTAMP:20260422T163237Z
DTSTART:20260626
DTEND:20260627
LOCATION:Olympiapark
SUMMARY:MASH 2026 - Actionsport im Olympiapark
DESCRIPTION:Fr.\,  26.06. &#8211; So.\,  28.06.2025 MASH 2026 &#8211; Actio
 nsport im Olympiapark Für alle Interessierten Ein Park. Fünf Sportarten u
 nd Lifestyle pur. MASH 2026 wird groß! Auf dem Programm stehen spannende W
 akeboard-\,  Skateboard-\,  Mountainbike- und BMX-Contests auf herausforder
 nden\,  brandneuen Set-ups. Nicht zu vergessen: Auch die besten Streetdance
 r:innen batteln sich in diesem[..]\nhttps://kitz-magazin.de/Veranstaltungen
 /mash-2026-actionsport-im-olympiapark/
URL:https://kitz-magazin.de/Veranstaltungen/mash-2026-actionsport-im-olympiapark/
END:VEVENT
END:VCALENDAR