BEGIN:VCALENDAR
VERSION:2.0
PRODID:-//eventon.com NONSGML v1.0//EN
CALSCALE:GREGORIAN
METHOD:PUBLISH
BEGIN:VEVENT
UID:69eb302767801
DTSTAMP:20260424T085607Z
DTSTART:20220318T153000Z
DTEND:20220318T235000Z
LOCATION:Friedenskirche Dachau Herzog-Albrecht-Straße 19
SUMMARY:Kindertheater: "Hühner – Puppenclownerei mit Ei" in der Friedenskirche Dachau
DESCRIPTION:Freitag\,  18\,  März\,  15.30 Uhr &#8222;Hühner – Puppencl
 ownerei mit Ei&#8220; Die Exen\,  Passau/Berlin Für Kinder ab 4 Jahren Das
  Leben ist kein Spaziergang. Schwierigkeiten stapeln sich – berghoch. Da 
 hilf t es auch nicht\,  wenn die gutgelaunte Nachbarin früh um sieben frö
 hlich durchs Haus gackert. Was tun? Decke über den[..]\nhttps://kitz-magaz
 in.de/Veranstaltungen/kindertheater-huehner-puppenclownerei-mit-ei-in-der-f
 riedenskirche-dachau/
URL:https://kitz-magazin.de/Veranstaltungen/kindertheater-huehner-puppenclownerei-mit-ei-in-der-friedenskirche-dachau/
END:VEVENT
END:VCALENDAR