BEGIN:VCALENDAR
VERSION:2.0
PRODID:-//eventon.com NONSGML v1.0//EN
CALSCALE:GREGORIAN
METHOD:PUBLISH
BEGIN:VEVENT
UID:69ec1a5c9447e
DTSTAMP:20260425T013524Z
DTSTART:20220223T100000Z
DTEND:20220223T110500Z
LOCATION:
SUMMARY:"An der Arche um Acht" Kinderstück von Ulrich Hub in der Schauburg München
DESCRIPTION:&#8222;An der Arche um Acht&#8220; Kinderstück von Ulrich Hub 
 in der Schauburg München Für Kinder ab 6 Jahren (1. &#8211; 4. Klasse) 20
 .01.\,  18:00 \,  Online-Vorstellung Online-Stream ab 20.01.\,  18 Uhr\,  b
 uchbar bis 17 Uhr\,  danach 72h noch abrufbar 23.02.\,  24.02.\,  07.03.\, 
  10:00 &#8211; 11:05 Uhr\,  Große Burg 25.02.\,  08.03.\, [..]\nhttps://ki
 tz-magazin.de/Veranstaltungen/an-der-arche-um-acht-kinderstueck-von-ulrich-
 hub-in-der-schauburg-muenchen/var/ri-1.l-L1
URL:https://kitz-magazin.de/Veranstaltungen/an-der-arche-um-acht-kinderstueck-von-ulrich-hub-in-der-schauburg-muenchen/var/ri-1.l-L1
END:VEVENT
END:VCALENDAR