BEGIN:VCALENDAR
VERSION:2.0
PRODID:-//eventon.com NONSGML v1.0//EN
CALSCALE:GREGORIAN
METHOD:PUBLISH
BEGIN:VEVENT
UID:69e886a4cfbfa
DTSTAMP:20260422T082820Z
DTSTART:20220302T081000Z
DTEND:20220302T225000Z
LOCATION:S-Bahn-Station München Laim Wotanstraße 1
SUMMARY:Familienwanderung: "Das Würmtal zwischen Gauting und Mühltal" mit dem Bund Naturschutz
DESCRIPTION:Mittwoch\,  2. März 2022 Auf einer natur- und kulturhistorisch
 en Wanderung zum Karlsberg das Würmtal zwischen Gauting und Mühltal entde
 cken Diese Zeitreise in die Geschichte entlang des Würmufers &#8211; teils
  auf hügeligen Trampelpfaden\,  teils auf dem Rad-Wanderweg daneben &#8211
 ; gipfelt auf dem Karlsberg bei Leutstetten. Rast im Biergartenrestaurant i
 n Leutstetten. Gehzeit:[..]\nhttps://kitz-magazin.de/Veranstaltungen/famili
 enwanderung-das-wuermtal-zwischen-gauting-und-muehltal-mit-dem-bund-natursc
 hutz/
URL:https://kitz-magazin.de/Veranstaltungen/familienwanderung-das-wuermtal-zwischen-gauting-und-muehltal-mit-dem-bund-naturschutz/
END:VEVENT
END:VCALENDAR