BEGIN:VCALENDAR
VERSION:2.0
PRODID:-//eventon.com NONSGML v1.0//EN
CALSCALE:GREGORIAN
METHOD:PUBLISH
BEGIN:VEVENT
UID:69e796a488edc
DTSTAMP:20260421T152420Z
DTSTART:20220320T103000Z
DTEND:20220320T180000Z
LOCATION:MIXT Kinderkunsthaus Römerstraße 21
SUMMARY:Offenes Programm - vielseitiges Angebot in Kreativwerkstatt und Medienlabor - im Mixt Kinderkunsthaus München
DESCRIPTION:Offenes Programm &#8211; vielseitige Angebot in Kreativwerkstat
 t und Medienlabor ohne Voranmeldung Herz des Kinderkunsthauses ist das Offe
 ne Programm. Das vielseitige Angebot in Kreativwerkstatt und Medienlabor ka
 nn von jedem ganz individuell genutzt werden. Die Besucher entscheiden selb
 st über Dauer und Art des Aufenthalts. Hier kann sich jeder Künstler die 
 Zeit nehmen\, [..]\nhttps://kitz-magazin.de/Veranstaltungen/offenes-program
 m-vielseitige-angebot-in-kreativwerkstatt-und-medienlabor-im-mixt-kinderkun
 sthaus-muenchen/var/ri-1.l-L1
URL:https://kitz-magazin.de/Veranstaltungen/offenes-programm-vielseitige-angebot-in-kreativwerkstatt-und-medienlabor-im-mixt-kinderkunsthaus-muenchen/var/ri-1.l-L1
END:VEVENT
END:VCALENDAR