BEGIN:VCALENDAR
VERSION:2.0
PRODID:-//eventon.com NONSGML v1.0//EN
CALSCALE:GREGORIAN
METHOD:PUBLISH
BEGIN:VEVENT
UID:69eb47ed5a2b1
DTSTAMP:20260424T103733Z
DTSTART:20220507
DTEND:20220508
LOCATION:Schauburg Proberaum im NEU-Workshop  Adlzreiterstraße 13
SUMMARY:Tanz LAB: "In:between" in der Schauburg
DESCRIPTION:Tanz LAB: &#8222;In:between&#8220; in der Schauburg Für alle v
 on 12 bis 16 Jahre Nähe und Distanz\,  Dazwischen sein\,  Tanz und Kreatio
 n. Der Abstand zwischen München und Nairobi &#8211; in diesem LAB wollen w
 ir gemeinsam mit dir auf die Suche gehen\,  was In:between &#8211; DAZWISCH
 EN bedeuten kann. Während der Proben findet[..]\nhttps://kitz-magazin.de/V
 eranstaltungen/tanz-lab-inbetween-in-der-schauburg/
URL:https://kitz-magazin.de/Veranstaltungen/tanz-lab-inbetween-in-der-schauburg/
END:VEVENT
END:VCALENDAR