BEGIN:VCALENDAR
VERSION:2.0
PRODID:-//eventon.com NONSGML v1.0//EN
CALSCALE:GREGORIAN
METHOD:PUBLISH
BEGIN:VEVENT
UID:69eb4225df755
DTSTAMP:20260424T101253Z
DTSTART:20220330T103000Z
DTEND:20220330T235000Z
LOCATION:Feierwerk Funkstation Margarete-Schütte-Lihotzky-Straße 36
SUMMARY:Figurentheater Pantaleon: „Riese\,  Bär und eine Brücke“  im Kulturzentrum Giesinger Bahnhof
DESCRIPTION:Mittwoch\,  30.03\,  10.00 Uhr Figurentheater Pantaleon: „Rie
 se\,  Bär und eine Brücke“ Für Kinder von 6 bis 12 Jahren Was ist Stä
 rke\,  was ist Schwäche? Wie lassen sich Konflikte lösen: nicht mit Konfr
 ontation\,  sondern im Miteinander. Wie lässt sich ein Kompromiss finden\,
   der alle Beteiligten zufrieden stellt? Über ein tiefes Flusstal[..]\nhtt
 ps://kitz-magazin.de/Veranstaltungen/figurentheater-pantaleon-riese-baer-un
 d-eine-bruecke-im-kulturzentrum-giesinger-bahnhof/
URL:https://kitz-magazin.de/Veranstaltungen/figurentheater-pantaleon-riese-baer-und-eine-bruecke-im-kulturzentrum-giesinger-bahnhof/
END:VEVENT
END:VCALENDAR