BEGIN:VCALENDAR
VERSION:2.0
PRODID:-//eventon.com NONSGML v1.0//EN
CALSCALE:GREGORIAN
METHOD:PUBLISH
BEGIN:VEVENT
UID:69ed13b567bb2
DTSTAMP:20260425T191917Z
DTSTART:20220419T080000Z
DTEND:20220419T100000Z
LOCATION:Jüdisches Museum München St.-Jakobs-Platz 16
SUMMARY:Kinderworkshop Moses und Mazzen. Das Pessachfest - JÜDISCHES MUSEUM MÜNCHEN
DESCRIPTION:Kinderworkshop Moses und Mazzen. Das Pessachfest &#8211; JÜDIS
 CHES MUSEUM MÜNCHEN Für Kinder von 8 bis 12 Jahren Di.\,  12.04.2022\,  1
 0:00―12:00 Uhr oder Di.\,  19.04.2022\,  10:00―12:00 UHr Im Frühjahr f
 indet das Pessachfest statt. Welche Prüfungen Moses zu bestehen hatte und 
 wie das „Mazza“ genannte ungesäuerte Brot schmeckt\,  finden Kinder in
  unserer[..]\nhttps://kitz-magazin.de/Veranstaltungen/kinderworkshop-moses-
 und-mazzen-das-pessachfest-juedisches-museum-muenchen/var/ri-1.l-L1
URL:https://kitz-magazin.de/Veranstaltungen/kinderworkshop-moses-und-mazzen-das-pessachfest-juedisches-museum-muenchen/var/ri-1.l-L1
END:VEVENT
END:VCALENDAR