BEGIN:VCALENDAR
VERSION:2.0
PRODID:-//eventon.com NONSGML v1.0//EN
CALSCALE:GREGORIAN
METHOD:PUBLISH
BEGIN:VEVENT
UID:69eb1b6f57912
DTSTAMP:20260424T072743Z
DTSTART:20220506T100000Z
DTEND:20220506T235000Z
LOCATION:Theater HochX Entenbachstr. 37
SUMMARY:Story-Performance: "Mein Leben als Ameise" -Theater HochX München
DESCRIPTION:Freitag\,  6.5.\,  10 Uhr und Samstag\,  7.5.\,  17 Uhr Story-P
 erformance: &#8222;Mein Leben als Ameise&#8220; Für Kinder ab 8 Jahren Ein
 es Tages erwacht Max aus unruhigen Träumen und muss zu seinem Entsetzen fe
 ststellen\,  dass er eine Ameise ist! Er lernt eine vollkommen neue Welt ke
 nnen. Aber dann lernt er auch den[..]\nhttps://kitz-magazin.de/Veranstaltun
 gen/story-performance-mein-leben-als-ameise-theater-hochx-muenchen/
URL:https://kitz-magazin.de/Veranstaltungen/story-performance-mein-leben-als-ameise-theater-hochx-muenchen/
END:VEVENT
END:VCALENDAR