BEGIN:VCALENDAR
VERSION:2.0
PRODID:-//eventon.com NONSGML v1.0//EN
CALSCALE:GREGORIAN
METHOD:PUBLISH
BEGIN:VEVENT
UID:69eaf5bdba2c9
DTSTAMP:20260424T044653Z
DTSTART:20220527T190000Z
DTEND:20220527T235000Z
LOCATION:
SUMMARY:Theaterwerkstatt des FestSpielHauses: "The Roaring Girl" Nach Thomas Middleton und Thomas Dekker
DESCRIPTION:Freitag\,  27.05. und Samstag\,  28.05.22 Beginn 19:00 Theaterw
 erkstatt des FestSpielHauses: &#8222;The Roaring Girl&#8220; nach Thomas Mi
 ddleton und Thomas Dekker Sebastian hat ein Problem: Er liebt Mary\,  aber 
 sein Vater ist damit nicht einverstanden. In seiner Verzweiflung wendet er 
 sich an die einzige Person\,  die ihm helfen kann\,  die furchtlose und[..]
 \nhttps://kitz-magazin.de/Veranstaltungen/theaterwerkstatt-des-festspielhau
 ses-the-roaring-girl-nach-thomas-middleton-und-thomas-dekker/
URL:https://kitz-magazin.de/Veranstaltungen/theaterwerkstatt-des-festspielhauses-the-roaring-girl-nach-thomas-middleton-und-thomas-dekker/
END:VEVENT
END:VCALENDAR