BEGIN:VCALENDAR
VERSION:2.0
PRODID:-//eventon.com NONSGML v1.0//EN
CALSCALE:GREGORIAN
METHOD:PUBLISH
BEGIN:VEVENT
UID:69eca8acbc0d1
DTSTAMP:20260425T114236Z
DTSTART:20220516T080000Z
DTEND:20220516T215000Z
LOCATION:Kinder u. Jugendkulturwerkstatt Boschetsrieder Str. München
SUMMARY:Familiencafé  Krabbelspaß im Familienzentrum Am Südpark
DESCRIPTION:Familiencafé Krabbelspaß im Familienzentrum Am Südpark Suche
 n Sie Kontakt und Austausch zu anderen Eltern mit Kindern im gleichen Alter
 ? Das Familiencafé ist der Ort\,  wo Sie Anschluss finden und neue Kontakt
 e knüpfen können. Eine Gruppenleitung begleitet Sie mit Ihren Themen und 
 bietet den Kindern eine Umgebung zum Experimentieren\,  Entdecken und[..]\n
 https://kitz-magazin.de/Veranstaltungen/familiencafe-krabbelspass-im-famili
 enzentrum-am-suedpark-3/
URL:https://kitz-magazin.de/Veranstaltungen/familiencafe-krabbelspass-im-familienzentrum-am-suedpark-3/
END:VEVENT
END:VCALENDAR