BEGIN:VCALENDAR
VERSION:2.0
PRODID:-//eventon.com NONSGML v1.0//EN
CALSCALE:GREGORIAN
METHOD:PUBLISH
BEGIN:VEVENT
UID:69eaf7766b5b7
DTSTAMP:20260424T045414Z
DTSTART:20220507T090000Z
DTEND:20220507T170000Z
LOCATION:Praterinsel München Praterinsel
SUMMARY:"Hallo Bayern" Messe auf der Praterinsel München
DESCRIPTION:7.-8. Mai 2022 &#8222;Hallo Bayern&#8220; Messe auf der Prateri
 nsel München Ansässige Unternehmen und Macher stellen ihre regionalen Pro
 dukte vor und bieten Dienstleistungen an. Bei Tracht\,  Lifestyle\,  kulina
 rische oder flüssige Schmankerl\,  Food Trucks und Handwerk verbinden sich
  Tradition und neue Trends. Umrahmt von Live-Musik\,  einem Biergarten und 
 einem abwechslungsreichen Programm\,  entsteht[..]\nhttps://kitz-magazin.de
 /Veranstaltungen/hallo-bayern-messe-auf-der-praterinsel-muenchen/
URL:https://kitz-magazin.de/Veranstaltungen/hallo-bayern-messe-auf-der-praterinsel-muenchen/
END:VEVENT
END:VCALENDAR