BEGIN:VCALENDAR
VERSION:2.0
PRODID:-//eventon.com NONSGML v1.0//EN
CALSCALE:GREGORIAN
METHOD:PUBLISH
BEGIN:VEVENT
UID:69e59b8df2bf3
DTSTAMP:20260420T032045Z
DTSTART:20220801T100000Z
DTEND:20220801T150000Z
LOCATION:Kuki e.V.
SUMMARY:Kinder entdecken das Archiv Geiger-Ein Projekt von KuKi e.V.  in Kooperation mit dem Archiv Geiger
DESCRIPTION:Kinder entdecken das Archiv Geiger-Ein Projekt von KuKi e.V. in
  Kooperation mit dem Archiv Geiger Samstag\,  25.6.22\,  15 &#8211; 17 Uhr 
 Tag des offenen Ateliers Neongelb und Himmelpink. Postkarten- und Collagewe
 rkstatt für Kinder und Jugendliche von 8 bis 13 Jahre Unkostenbeitrag: 3\,
  - Euro Suchen\,  finden\,  schneiden\,  kleben\,  drucken&#8230; Rupprecht
  Geiger[..]\nhttps://kitz-magazin.de/Veranstaltungen/kinder-entdecken-das-a
 rchiv-geiger-ein-projekt-von-kuki-e-v-in-kooperation-mit-dem-archiv-geiger/
 var/ri-1.l-L1
URL:https://kitz-magazin.de/Veranstaltungen/kinder-entdecken-das-archiv-geiger-ein-projekt-von-kuki-e-v-in-kooperation-mit-dem-archiv-geiger/var/ri-1.l-L1
END:VEVENT
END:VCALENDAR