BEGIN:VCALENDAR
VERSION:2.0
PRODID:-//eventon.com NONSGML v1.0//EN
CALSCALE:GREGORIAN
METHOD:PUBLISH
BEGIN:VEVENT
UID:69e752aac2751
DTSTAMP:20260421T103418Z
DTSTART:20220716T170000Z
DTEND:20220716T235000Z
LOCATION:Humor Festival
SUMMARY:Kasperltheaterfest beim Humorfestival am Starnberger See: Ein Fest für Kasperlfans. Schirmherr: Gerhard Polt
DESCRIPTION:Samstag und Sonntag\,  16./17. Juli 2022 Kasperltheaterfest bei
 m Humorfestival am Starnberger See: Ein Fest für Kasperlfans. Schirmherr: 
 Gerhard Polt Für Kinder ab 3 bis 4 Jahren Wie schon im Vorjahr veranstalte
 t das „Forum Humor und komische Kunst“ im Sommer 2022 in Bernried ein H
 umorfestival. Neu dabei in diesem Jahr: ein[..]\nhttps://kitz-magazin.de/Ve
 ranstaltungen/kasperltheaterfest-beim-humorfestival-am-starnberger-see-ein-
 fest-fuer-kasperlfans-schirmherr-gerhard-polt/
URL:https://kitz-magazin.de/Veranstaltungen/kasperltheaterfest-beim-humorfestival-am-starnberger-see-ein-fest-fuer-kasperlfans-schirmherr-gerhard-polt/
END:VEVENT
END:VCALENDAR