BEGIN:VCALENDAR
VERSION:2.0
PRODID:-//eventon.com NONSGML v1.0//EN
CALSCALE:GREGORIAN
METHOD:PUBLISH
BEGIN:VEVENT
UID:69eb46864cd53
DTSTAMP:20260424T103134Z
DTSTART:20220708T143000Z
DTEND:20220708T235000Z
LOCATION:Forum 2 - Das Kulturzentrum im Stadtteil Nadistraße 3
SUMMARY:Kinderkino  – "Pumuckl und sein Zirkusabenteuer" im Kulturverein Olympiadorf Forum2
DESCRIPTION:Freitag\,  22. Juli 14.30 Uhr &#8222;Pumuckl und sein Zirkusabe
 nteuer&#8220; Kino im forum2 Empfohlen ab 6 Jahren Zurück von großer Fahr
 t findet Pumuckl in München nichts mehr wie es war. In die Werkstatt des v
 erstorbenen Meister Eder zieht dessen Cousin\,  der sich nach dem ersten Sc
 hrecken mit dem Rotschopf anfreundet. Doch[..]\nhttps://kitz-magazin.de/Ver
 anstaltungen/kinderkino-pumuckl-und-sein-zirkusabenteuer-im-kulturverein-ol
 ympiadorf-forum2/
URL:https://kitz-magazin.de/Veranstaltungen/kinderkino-pumuckl-und-sein-zirkusabenteuer-im-kulturverein-olympiadorf-forum2/
END:VEVENT
END:VCALENDAR