BEGIN:VCALENDAR
VERSION:2.0
PRODID:-//eventon.com NONSGML v1.0//EN
CALSCALE:GREGORIAN
METHOD:PUBLISH
BEGIN:VEVENT
UID:69e6d97d44f0e
DTSTAMP:20260421T015717Z
DTSTART:20220803T093000Z
DTEND:20220803T130000Z
LOCATION:Feierwerk Südpolstation Gustav-Heinemann-Ring 19
SUMMARY:Sommerferienprogramm der Feierwerk Südpolstation: Kunst & Handwerk: kreative Workshops
DESCRIPTION:02. bis 31. August jeweils Dienstag und Mittwoch Sommerferienpr
 ogramm der Feierwerk Südpolstation: Kunst &amp; Handwerk: kreative Worksho
 ps Für Jugendliche ab 12 Dienstags und mittwochs sind während der Sommerf
 erien im Jugendtreff der Feierwerk Südpolstation tolle Kreativworkshops un
 d pure gute Laune angesagt. In entspannter Atmosphäre können Jugendliche 
 ab 12 Jahren hier kreativ[..]\nhttps://kitz-magazin.de/Veranstaltungen/somm
 erferienprogramm-der-feierwerk-suedpolstation-kunst-handwerk-kreative-works
 hops/var/ri-1.l-L1
URL:https://kitz-magazin.de/Veranstaltungen/sommerferienprogramm-der-feierwerk-suedpolstation-kunst-handwerk-kreative-workshops/var/ri-1.l-L1
END:VEVENT
END:VCALENDAR