BEGIN:VCALENDAR
VERSION:2.0
PRODID:-//eventon.com NONSGML v1.0//EN
CALSCALE:GREGORIAN
METHOD:PUBLISH
BEGIN:VEVENT
UID:69eba59202170
DTSTAMP:20260424T171706Z
DTSTART:20220802T100000Z
DTEND:20220802T150000Z
LOCATION:Pinakothek der Moderne Barer Straße 40
SUMMARY:Fünftägiges Sommerferienprogramm für Jugendliche in der Pinakothek der Moderne
DESCRIPTION:Montag\,  01.08. bis Freitag\,  05.08.\,  von 10.00-15.00 Uhr F
 ünftägiges Sommerferienprogramm für Jugendliche in der Pinakothek der Mo
 derne Für Jugendliche Du willst mit Film und Ton der Pinakothek der Modern
 e ein Gesicht und eine Stimme geben? Du hast Lust\,  dir mit anderen Jugend
 lichen selbst Inhalte auszudenken und zu produzieren? Vom Drehbuch[..]\nhtt
 ps://kitz-magazin.de/Veranstaltungen/fuenftaegiges-sommerferienprogramm-fue
 r-jugendliche-in-der-pinakothek-der-moderne/var/ri-1.l-L1
URL:https://kitz-magazin.de/Veranstaltungen/fuenftaegiges-sommerferienprogramm-fuer-jugendliche-in-der-pinakothek-der-moderne/var/ri-1.l-L1
END:VEVENT
END:VCALENDAR