BEGIN:VCALENDAR
VERSION:2.0
PRODID:-//eventon.com NONSGML v1.0//EN
CALSCALE:GREGORIAN
METHOD:PUBLISH
BEGIN:VEVENT
UID:69e9cc84144f3
DTSTAMP:20260423T073844Z
DTSTART:20220825T073000Z
DTEND:20220825T140000Z
LOCATION:Walderlebniszentrum Grünwald Sauschütt
SUMMARY:Ferienprogramm im Walderlebniszentrum Grünwald: Waldolympiade
DESCRIPTION:Dienstag\,  30. August\,  9.30-16.00 Uhr Waldolympiade Für Kin
 der ab 6 Jahre! Hast du schon einmal an der Walddisziplin Zapfenweitwurf te
 ilgenommen oder dich mit den Waldtieren beim Weitsprung gemessen? Nein? Dan
 n komm zu uns und nimm an unserer Waldolympiade teil\,  bei der es diese un
 d weitere Disziplinen zu schaffen gilt! Teilnehmerbeitrag:[..]\nhttps://kit
 z-magazin.de/Veranstaltungen/ferienprogramm-im-walderlebniszentrum-gruenwal
 d-waldolympiade/
URL:https://kitz-magazin.de/Veranstaltungen/ferienprogramm-im-walderlebniszentrum-gruenwald-waldolympiade/
END:VEVENT
END:VCALENDAR