BEGIN:VCALENDAR
VERSION:2.0
PRODID:-//eventon.com NONSGML v1.0//EN
CALSCALE:GREGORIAN
METHOD:PUBLISH
BEGIN:VEVENT
UID:69e759f298cbc
DTSTAMP:20260421T110522Z
DTSTART:20220925T120000Z
DTEND:20220925T140000Z
LOCATION:Walderlebniszentrum Grünwald Sauschütt
SUMMARY:Familienprogramm im Walderlebniszentrum Grünwald
DESCRIPTION:Sonntag\,  11. September\,  14.00-16.00 Uhr Die Lebensweise der
  Pilze Pilzwesen verstecken sich meistens im Holz und unter der Erde. Im He
 rbst ist Schwammerlzeit\,  dann verraten sie uns ihren Platz\,  indem ein F
 ruchtkörper wächst. Bei einer Wanderung gehen wir spielerisch diesem Phä
 nomen nach\,  zeigen ihre besondere Stellung im Ökosystem Wald auf[..]\nht
 tps://kitz-magazin.de/Veranstaltungen/familienprogramm-im-walderlebniszentr
 um-gruenwald/var/ri-2.l-L1
URL:https://kitz-magazin.de/Veranstaltungen/familienprogramm-im-walderlebniszentrum-gruenwald/var/ri-2.l-L1
END:VEVENT
END:VCALENDAR