BEGIN:VCALENDAR
VERSION:2.0
PRODID:-//eventon.com NONSGML v1.0//EN
CALSCALE:GREGORIAN
METHOD:PUBLISH
BEGIN:VEVENT
UID:69eb5d158fd1e
DTSTAMP:20260424T120749Z
DTSTART:20220911T143000Z
DTEND:20220911T160000Z
LOCATION:Umweltstation HeideHaus Admiralbogen 77
SUMMARY:Führung durch das Umweltbildungsgelände "Schau Dich um..." - Heideflächenverein Münchener Norden e.V.
DESCRIPTION:Sonntag\,  11.09.2022\,  14:30-16:00 Uhr Führung durch das Umw
 eltbildungsgelände &#8222;Schau Dich um&#8230;&#8220; &#8211; Heidefläche
 nverein Münchener Norden e.V. Sie wollen die Umweltstation und das dazu ge
 hörende Freigelände in Begleitung erkunden? Dann sind Sie herzlich eingel
 aden\,  an dieser kostenlosen Kurzführung teilzunehmen. Entlang des Nature
 rlebnispfades lernen Sie die Heide und ihre Geschichte kennen. Und[..]\nhtt
 ps://kitz-magazin.de/Veranstaltungen/fuehrung-durch-das-umweltbildungsgelae
 nde-schau-dich-um-heideflaechenverein-muenchener-norden-e-v-2/
URL:https://kitz-magazin.de/Veranstaltungen/fuehrung-durch-das-umweltbildungsgelaende-schau-dich-um-heideflaechenverein-muenchener-norden-e-v-2/
END:VEVENT
END:VCALENDAR