BEGIN:VCALENDAR
VERSION:2.0
PRODID:-//eventon.com NONSGML v1.0//EN
CALSCALE:GREGORIAN
METHOD:PUBLISH
BEGIN:VEVENT
UID:69ebb83235c91
DTSTAMP:20260424T183634Z
DTSTART:20220917T150000Z
DTEND:20220917T170000Z
LOCATION:Seidlvilla Nikolaiplatz 1b
SUMMARY:Familiencafé für Alleinerziehende mit Kindern: "Oase" in der Seidlvilla
DESCRIPTION:Samstag\,  17.9. von 15.00 – 17.00 Uhr. Oase\,  vierteljährl
 icher Treff für Alleinerziehende und ihre Kinder Vierteljährlicher Treffp
 unkt\,  Spielraum und Infobörse. Das offene Angebot unter professioneller 
 Leitung lädt zu Austausch und gemeinsamen Gespräch und will ganz wie eine
  Oase zur Stärkung und Erholung beitragen. Unkostenbeitrag jeweils 4 Euro 
 pro Familie. Leitung:[..]\nhttps://kitz-magazin.de/Veranstaltungen/familien
 cafe-fuer-alleinerziehende-mit-kindern-oase-in-der-seidlvilla-2/
URL:https://kitz-magazin.de/Veranstaltungen/familiencafe-fuer-alleinerziehende-mit-kindern-oase-in-der-seidlvilla-2/
END:VEVENT
END:VCALENDAR