BEGIN:VCALENDAR
VERSION:2.0
PRODID:-//eventon.com NONSGML v1.0//EN
CALSCALE:GREGORIAN
METHOD:PUBLISH
BEGIN:VEVENT
UID:69e954e49eee1
DTSTAMP:20260422T230820Z
DTSTART:20221103T143000Z
DTEND:20221103T180000Z
LOCATION:Dschungelpalast Feierwerk e.V. Hansastraße 41
SUMMARY:Feierwerk Dschungelpalast - "DSCHUNGEL" Das Kulturfestival für die ganze Familie
DESCRIPTION:Samstag\,  29. Oktober bis Sonntag\,  06. November Feierwerk Ds
 chungelpalast &#8211; &#8222;DSCHUNGEL&#8220; Das Kulturfestival Für Famil
 ien mit Kindern ab 3 Jahren Von Samstag\,  den 29. Oktober bis Sonntag\,  d
 en 06. November bietet das Kulturfestival für die ganze Familie im Feierwe
 rk Dschungelpalast täglich von 14:30 bis 18:00 Uhr für Kinder ab drei[..]
 \nhttps://kitz-magazin.de/Veranstaltungen/f-2/var/ri-5.l-L1
URL:https://kitz-magazin.de/Veranstaltungen/f-2/var/ri-5.l-L1
END:VEVENT
END:VCALENDAR