BEGIN:VCALENDAR
VERSION:2.0
PRODID:-//eventon.com NONSGML v1.0//EN
CALSCALE:GREGORIAN
METHOD:PUBLISH
BEGIN:VEVENT
UID:69eccaeb9f57d
DTSTAMP:20260425T140843Z
DTSTART:20230114T090000Z
DTEND:20230114T225000Z
LOCATION:Münchner Theater für Kinder Dachauer Straße 46
SUMMARY:Kindertheater: "Oh\,  wie schön ist Panama" im Münchner Theater für Kinder
DESCRIPTION:Oh\,  wie schön ist Panama nach Janosch Für Kinder ab 4 Jahre
 n Der kleine Bär und der kleine Tiger leben gemütlich in ihrem kleinen Ha
 us am Fluss. Eines schönen Tages angelt der kleine Bär eine Kiste\,  die 
 so wunderbar nach Bananen duftet und auf der „Panama“ zu lesen ist. So[
 ..]\nhttps://kitz-magazin.de/Veranstaltungen/kindertheater-oh-wie-schoen-is
 t-panama-im-muenchner-theater-fuer-kinder-3/var/ri-3.l-L1
URL:https://kitz-magazin.de/Veranstaltungen/kindertheater-oh-wie-schoen-ist-panama-im-muenchner-theater-fuer-kinder-3/var/ri-3.l-L1
END:VEVENT
END:VCALENDAR