BEGIN:VCALENDAR
VERSION:2.0
PRODID:-//eventon.com NONSGML v1.0//EN
CALSCALE:GREGORIAN
METHOD:PUBLISH
BEGIN:VEVENT
UID:69eb2fbfeaa3a
DTSTAMP:20260424T085423Z
DTSTART:20221125T160000Z
DTEND:20221125T200000Z
LOCATION:Mütterzentrum Moosach
SUMMARY:Rund ums Kind-Tisch-Flohmarkt im Müttertreff Moosach
DESCRIPTION:25.11.2022 von 17.00-21.00 Uhr\,  26.11.2022 10:00 bis 14:00 Uh
 r\,  27.11.2022 13:00 bis 17:00 Uhr Rund ums Kind-Tisch-Flohmarkt Für alle
  Interessierte Tischeflohmarkt. Hier können Sie alles kaufen und verkaufen
 \,  was sie tragen können – und was durch die Türe passt! Weitere Infos
  findet ihr hier. Müttertreff Moosach e.V.\,  Feldmochinger Str. 42[..]\nh
 ttps://kitz-magazin.de/Veranstaltungen/rund-ums-kind-tisch-flohmarkt-im-mue
 ttertreff-moosach/
URL:https://kitz-magazin.de/Veranstaltungen/rund-ums-kind-tisch-flohmarkt-im-muettertreff-moosach/
END:VEVENT
END:VCALENDAR