BEGIN:VCALENDAR
VERSION:2.0
PRODID:-//eventon.com NONSGML v1.0//EN
CALSCALE:GREGORIAN
METHOD:PUBLISH
BEGIN:VEVENT
UID:69e908ca8bc5a
DTSTAMP:20260422T174338Z
DTSTART:20221202T150000Z
DTEND:20221202T235000Z
LOCATION:Matthäuskirche München
SUMMARY:Internationale Kinderzirkus "Trau dich" Wintervorstellung
DESCRIPTION:2.12. und 3.12. jeweils um 15.00 Uhr &#8211; Einlass 14.30 Uhr 
 Internationale Kinderzirkus &#8222;Trau dich&#8220; Wintervorstellung Für 
 Kinder ab 3 Jahren Die Kinder im Alter von 5 bis 14 Jahren präsentieren ih
 re Zirkuskünste u.a. im Seillaufen\,  Einrad fahren\,  Stelzen laufen\,  V
 ertikaltuch\,  eingebettet in eine Geschichte &#8211; die Kinder übernehme
 n selbst[..]\nhttps://kitz-magazin.de/Veranstaltungen/internationale-kinder
 zirkus-trau-dich-wintervorstellung/
URL:https://kitz-magazin.de/Veranstaltungen/internationale-kinderzirkus-trau-dich-wintervorstellung/
END:VEVENT
END:VCALENDAR