BEGIN:VCALENDAR
VERSION:2.0
PRODID:-//eventon.com NONSGML v1.0//EN
CALSCALE:GREGORIAN
METHOD:PUBLISH
BEGIN:VEVENT
UID:69e73bf720561
DTSTAMP:20260421T085727Z
DTSTART:20221203T140000Z
DTEND:20221203T233000Z
LOCATION:Türkenfelder Bauern- und Handwerkermarkt Moorenweiser Str. 13
SUMMARY:15. Türkenfelder Bergweihnacht auf dem Steingassenberg
DESCRIPTION:Samstag\,  03./10./17. Dezember 14:00 bis 23:30 Uhr Sonntag\,  
 04./11./18. Dezember 11.30 bis 19:30 Uhr 15. Türkenfelder Bergweihnacht au
 f dem Steingassenberg Für die ganze Familie Ein Festival mit Musik und Tan
 z. Der stimmungsvollste Weihnachtsmarkt der Gegend bietet neben dem gemütl
 ichen Hüttendorf am Waldrand des Steingassenberges eine bezaubernd dekorie
 rte Halle. Das vielseitige[..]\nhttps://kitz-magazin.de/Veranstaltungen/15-
 tuerkenfelder-bergweihnacht-auf-dem-steingassenberg/
URL:https://kitz-magazin.de/Veranstaltungen/15-tuerkenfelder-bergweihnacht-auf-dem-steingassenberg/
END:VEVENT
END:VCALENDAR