BEGIN:VCALENDAR
VERSION:2.0
PRODID:-//eventon.com NONSGML v1.0//EN
CALSCALE:GREGORIAN
METHOD:PUBLISH
BEGIN:VEVENT
UID:69eb1a5f55afb
DTSTAMP:20260424T072311Z
DTSTART:20230114T080000Z
DTEND:20230114T120000Z
LOCATION:Backstage
SUMMARY:"Midnightbazar" Event & Markt: Kinderflohmarkt
DESCRIPTION:&#8222;Midnightbazar&#8220; Event &amp; Markt: Kinderflohmarkt 
 14.01.2023 | Kinderflohmarkt | 9 &#8211; 13 Uhr | Backstage 28.01.2023 | Ki
 nderflohmarkt | 9 &#8211; 13 Uhr | Backstage 11.02.2023 | Kinderflohmarkt |
  9 &#8211; 13 Uhr | Backstage 25.02.2023 | Kinderflohmarkt | 9 &#8211; 13 U
 hr | Backstage Hier können Kinder und ihre[..]\nhttps://kitz-magazin.de/Ve
 ranstaltungen/midnightbazar-event-markt-kinderflohmarkt-4/
URL:https://kitz-magazin.de/Veranstaltungen/midnightbazar-event-markt-kinderflohmarkt-4/
END:VEVENT
END:VCALENDAR