BEGIN:VCALENDAR
VERSION:2.0
PRODID:-//eventon.com NONSGML v1.0//EN
CALSCALE:GREGORIAN
METHOD:PUBLISH
BEGIN:VEVENT
UID:69eb04039b1f0
DTSTAMP:20260424T054747Z
DTSTART:20230225T080000Z
DTEND:20230225T120000Z
LOCATION:Backstage
SUMMARY:"Midnightbazar" Event & Markt: Kinderflohmarkt
DESCRIPTION:&#8222;Midnightbazar&#8220; Event &amp; Markt: Kinderflohmarkt 
 14.01.2023 | Kinderflohmarkt | 9 &#8211; 13 Uhr | Backstage 28.01.2023 | Ki
 nderflohmarkt | 9 &#8211; 13 Uhr | Backstage 11.02.2023 | Kinderflohmarkt |
  9 &#8211; 13 Uhr | Backstage 25.02.2023 | Kinderflohmarkt | 9 &#8211; 13 U
 hr | Backstage Hier können Kinder und ihre[..]\nhttps://kitz-magazin.de/Ve
 ranstaltungen/midnightbazar-event-markt-kinderflohmarkt-4/var/ri-3.l-L1
URL:https://kitz-magazin.de/Veranstaltungen/midnightbazar-event-markt-kinderflohmarkt-4/var/ri-3.l-L1
END:VEVENT
END:VCALENDAR